BEGIN:VCALENDAR
VERSION:2.0
PRODID:-//Fotogroep Esch - ECPv6.15.20//NONSGML v1.0//EN
CALSCALE:GREGORIAN
METHOD:PUBLISH
X-ORIGINAL-URL:https://fotogroepesch.nl
X-WR-CALDESC:Evenementen voor Fotogroep Esch
REFRESH-INTERVAL;VALUE=DURATION:PT1H
X-Robots-Tag:noindex
X-PUBLISHED-TTL:PT1H
BEGIN:VTIMEZONE
TZID:Europe/Paris
BEGIN:DAYLIGHT
TZOFFSETFROM:+0100
TZOFFSETTO:+0200
TZNAME:CEST
DTSTART:20250330T010000
END:DAYLIGHT
BEGIN:STANDARD
TZOFFSETFROM:+0200
TZOFFSETTO:+0100
TZNAME:CET
DTSTART:20251026T010000
END:STANDARD
BEGIN:DAYLIGHT
TZOFFSETFROM:+0100
TZOFFSETTO:+0200
TZNAME:CEST
DTSTART:20260329T010000
END:DAYLIGHT
BEGIN:STANDARD
TZOFFSETFROM:+0200
TZOFFSETTO:+0100
TZNAME:CET
DTSTART:20261025T010000
END:STANDARD
BEGIN:DAYLIGHT
TZOFFSETFROM:+0100
TZOFFSETTO:+0200
TZNAME:CEST
DTSTART:20270328T010000
END:DAYLIGHT
BEGIN:STANDARD
TZOFFSETFROM:+0200
TZOFFSETTO:+0100
TZNAME:CET
DTSTART:20271031T010000
END:STANDARD
END:VTIMEZONE
BEGIN:VEVENT
DTSTART;TZID=Europe/Paris:20260812T193000
DTEND;TZID=Europe/Paris:20260812T220000
DTSTAMP:20260419T224504
CREATED:20260113T094637Z
LAST-MODIFIED:20260304T123928Z
UID:1035-1786563000-1786572000@fotogroepesch.nl
SUMMARY:Ledenbijeenkomst augustus
DESCRIPTION:We gaan vanavond een actieve avondwandeling maken mits de weersomstandigheden het toelaten. Augustus is de periode dat de heide ook in bloei staat en wellicht kunnen we een mooie zonsondergang bij een paarse heide fotograferen. \n\n\n\nLocatie zal of de Kampina of Loonse en Drunense Duinen worden\, nadere informatie volgt nog.
URL:https://fotogroepesch.nl/activiteit/ledenbijeenkomst-augustus/
LOCATION:Noord-Brabant
CATEGORIES:Ledenbijeenkomst
ATTACH;FMTTYPE=image/webp:https://fotogroepesch.nl/wp-content/uploads/2026/03/Fotogroep-Esch-Avondwandeling.webp
END:VEVENT
END:VCALENDAR