BEGIN:VCALENDAR
VERSION:2.0
PRODID:-//Fotogroep Esch - ECPv6.15.20//NONSGML v1.0//EN
CALSCALE:GREGORIAN
METHOD:PUBLISH
X-ORIGINAL-URL:https://fotogroepesch.nl
X-WR-CALDESC:Evenementen voor Fotogroep Esch
REFRESH-INTERVAL;VALUE=DURATION:PT1H
X-Robots-Tag:noindex
X-PUBLISHED-TTL:PT1H
BEGIN:VTIMEZONE
TZID:Europe/Paris
BEGIN:DAYLIGHT
TZOFFSETFROM:+0100
TZOFFSETTO:+0200
TZNAME:CEST
DTSTART:20250330T010000
END:DAYLIGHT
BEGIN:STANDARD
TZOFFSETFROM:+0200
TZOFFSETTO:+0100
TZNAME:CET
DTSTART:20251026T010000
END:STANDARD
BEGIN:DAYLIGHT
TZOFFSETFROM:+0100
TZOFFSETTO:+0200
TZNAME:CEST
DTSTART:20260329T010000
END:DAYLIGHT
BEGIN:STANDARD
TZOFFSETFROM:+0200
TZOFFSETTO:+0100
TZNAME:CET
DTSTART:20261025T010000
END:STANDARD
BEGIN:DAYLIGHT
TZOFFSETFROM:+0100
TZOFFSETTO:+0200
TZNAME:CEST
DTSTART:20270328T010000
END:DAYLIGHT
BEGIN:STANDARD
TZOFFSETFROM:+0200
TZOFFSETTO:+0100
TZNAME:CET
DTSTART:20271031T010000
END:STANDARD
END:VTIMEZONE
BEGIN:VEVENT
DTSTART;TZID=Europe/Paris:20260812T193000
DTEND;TZID=Europe/Paris:20260812T220000
DTSTAMP:20260420T010044
CREATED:20260113T094637Z
LAST-MODIFIED:20260304T123928Z
UID:1035-1786563000-1786572000@fotogroepesch.nl
SUMMARY:Ledenbijeenkomst augustus
DESCRIPTION:We gaan vanavond een actieve avondwandeling maken mits de weersomstandigheden het toelaten. Augustus is de periode dat de heide ook in bloei staat en wellicht kunnen we een mooie zonsondergang bij een paarse heide fotograferen. \n\n\n\nLocatie zal of de Kampina of Loonse en Drunense Duinen worden\, nadere informatie volgt nog.
URL:https://fotogroepesch.nl/activiteit/ledenbijeenkomst-augustus/
LOCATION:Noord-Brabant
CATEGORIES:Ledenbijeenkomst
ATTACH;FMTTYPE=image/webp:https://fotogroepesch.nl/wp-content/uploads/2026/03/Fotogroep-Esch-Avondwandeling.webp
END:VEVENT
BEGIN:VEVENT
DTSTART;TZID=Europe/Paris:20260909T193000
DTEND;TZID=Europe/Paris:20260909T220000
DTSTAMP:20260420T010044
CREATED:20260113T094753Z
LAST-MODIFIED:20260304T124246Z
UID:1040-1788982200-1788991200@fotogroepesch.nl
SUMMARY:Ledenbijeenkomst september
DESCRIPTION:Voor vele van ons zit de vakantie er weer op. Heb jij prachtige foto’s gemaakt tijdens je vakantie?Vanavond bespreken we jouw mooiste vakantie foto’s en genieten we samen nog even na.
URL:https://fotogroepesch.nl/activiteit/ledenbijeenkomst-september/
LOCATION:Hobbyclub Samen Bezig\, Esch\, Noord-Brabant\, 5296KB\, Netherlands
CATEGORIES:Ledenbijeenkomst
ATTACH;FMTTYPE=image/webp:https://fotogroepesch.nl/wp-content/uploads/2026/03/Fotogroep-Esch-Vakantiefotos.webp
END:VEVENT
BEGIN:VEVENT
DTSTART;TZID=Europe/Paris:20261014T193000
DTEND;TZID=Europe/Paris:20261014T220000
DTSTAMP:20260420T010044
CREATED:20260113T094910Z
LAST-MODIFIED:20260113T095500Z
UID:1043-1792006200-1792015200@fotogroepesch.nl
SUMMARY:Ledenbijeenkomst oktober
DESCRIPTION:De activiteit voor de ledenbijeenkomst oktober van Fotogroep Esch is nog niet bekend.
URL:https://fotogroepesch.nl/activiteit/ledenbijeenkomst-oktober/
LOCATION:Hobbyclub Samen Bezig\, Esch\, Noord-Brabant\, 5296KB\, Netherlands
CATEGORIES:Ledenbijeenkomst
ATTACH;FMTTYPE=image/webp:https://fotogroepesch.nl/wp-content/uploads/2021/08/Fotogroep-Esch-Ledenbijeenkomst.webp
END:VEVENT
BEGIN:VEVENT
DTSTART;TZID=Europe/Paris:20261111T193000
DTEND;TZID=Europe/Paris:20261111T220000
DTSTAMP:20260420T010044
CREATED:20260113T095047Z
LAST-MODIFIED:20260113T095227Z
UID:1046-1794425400-1794434400@fotogroepesch.nl
SUMMARY:Ledenbijeenkomst november
DESCRIPTION:De activiteit voor de ledenbijeenkomst november van Fotogroep Esch is nog niet bekend.
URL:https://fotogroepesch.nl/activiteit/ledenbijeenkomst-november/
LOCATION:Hobbyclub Samen Bezig\, Esch\, Noord-Brabant\, 5296KB\, Netherlands
CATEGORIES:Ledenbijeenkomst
ATTACH;FMTTYPE=image/webp:https://fotogroepesch.nl/wp-content/uploads/2021/08/Fotogroep-Esch-Ledenbijeenkomst.webp
END:VEVENT
BEGIN:VEVENT
DTSTART;TZID=Europe/Paris:20261209T193000
DTEND;TZID=Europe/Paris:20261209T220000
DTSTAMP:20260420T010044
CREATED:20260113T095247Z
LAST-MODIFIED:20260113T095332Z
UID:1050-1796844600-1796853600@fotogroepesch.nl
SUMMARY:Ledenbijeenkomst december
DESCRIPTION:De activiteit voor de ledenbijeenkomst december van Fotogroep Esch is nog niet bekend.
URL:https://fotogroepesch.nl/activiteit/ledenbijeenkomst-december/
LOCATION:Hobbyclub Samen Bezig\, Esch\, Noord-Brabant\, 5296KB\, Netherlands
CATEGORIES:Ledenbijeenkomst
ATTACH;FMTTYPE=image/webp:https://fotogroepesch.nl/wp-content/uploads/2021/08/Fotogroep-Esch-Ledenbijeenkomst.webp
END:VEVENT
END:VCALENDAR