BEGIN:VCALENDAR
VERSION:2.0
PRODID:-//Fotogroep Esch - ECPv6.15.20//NONSGML v1.0//EN
CALSCALE:GREGORIAN
METHOD:PUBLISH
X-WR-CALNAME:Fotogroep Esch
X-ORIGINAL-URL:https://fotogroepesch.nl
X-WR-CALDESC:Evenementen voor Fotogroep Esch
REFRESH-INTERVAL;VALUE=DURATION:PT1H
X-Robots-Tag:noindex
X-PUBLISHED-TTL:PT1H
BEGIN:VTIMEZONE
TZID:Europe/Paris
BEGIN:DAYLIGHT
TZOFFSETFROM:+0100
TZOFFSETTO:+0200
TZNAME:CEST
DTSTART:20250330T010000
END:DAYLIGHT
BEGIN:STANDARD
TZOFFSETFROM:+0200
TZOFFSETTO:+0100
TZNAME:CET
DTSTART:20251026T010000
END:STANDARD
BEGIN:DAYLIGHT
TZOFFSETFROM:+0100
TZOFFSETTO:+0200
TZNAME:CEST
DTSTART:20260329T010000
END:DAYLIGHT
BEGIN:STANDARD
TZOFFSETFROM:+0200
TZOFFSETTO:+0100
TZNAME:CET
DTSTART:20261025T010000
END:STANDARD
BEGIN:DAYLIGHT
TZOFFSETFROM:+0100
TZOFFSETTO:+0200
TZNAME:CEST
DTSTART:20270328T010000
END:DAYLIGHT
BEGIN:STANDARD
TZOFFSETFROM:+0200
TZOFFSETTO:+0100
TZNAME:CET
DTSTART:20271031T010000
END:STANDARD
END:VTIMEZONE
BEGIN:VEVENT
DTSTART;TZID=Europe/Paris:20260408T193000
DTEND;TZID=Europe/Paris:20260408T220000
DTSTAMP:20260419T211808
CREATED:20260113T094011Z
LAST-MODIFIED:20260304T122652Z
UID:1021-1775676600-1775685600@fotogroepesch.nl
SUMMARY:Ledenbijeenkomst april
DESCRIPTION:Vanavond bespreken we de foto’s met scherpte/diepte waarmee we de afgelopen maand bezig zijn geweest. Na het fotobespreken gaan we in op het gebruik van de sluitertijd.
URL:https://fotogroepesch.nl/activiteit/ledenbijeenkomst-april/
LOCATION:Hobbyclub Samen Bezig\, Esch\, Noord-Brabant\, 5296KB\, Netherlands
CATEGORIES:Ledenbijeenkomst
ATTACH;FMTTYPE=image/webp:https://fotogroepesch.nl/wp-content/uploads/2026/03/Fotogroep-Esch-Sluitertijd.webp
END:VEVENT
BEGIN:VEVENT
DTSTART;TZID=Europe/Paris:20260406T110000
DTEND;TZID=Europe/Paris:20260406T170000
DTSTAMP:20260419T211808
CREATED:20260323T084425Z
LAST-MODIFIED:20260323T084426Z
UID:2180-1775473200-1775494800@fotogroepesch.nl
SUMMARY:Fotogroep Vlijmen - Foto expositie
DESCRIPTION:Fotogroep Vlijmen organiseert haar jaarlijkse Paasexpositie.Op zondag 5 en maandag 6 April van 11-17 uur.Buurthuis de Korf\, Mgr.van Kesselstraat 29\, 5251 AW Vlijmen.Onze expositie is de moeite waard om te bezoeken.
URL:https://fotogroepesch.nl/activiteit/fotogroep-vlijmen-foto-expositie-2/
LOCATION:Buurthuis de Korf\, Mgr. van Kesselstraat 29\, Vlijmen\, Noord-Brabant\, 5251AW\, Netherlands
CATEGORIES:Foto exposities
ATTACH;FMTTYPE=image/webp:https://fotogroepesch.nl/wp-content/uploads/2026/03/Fotogroep-Esch-Fotoclub-Vlijmen-Expositie-2026.webp
END:VEVENT
BEGIN:VEVENT
DTSTART;TZID=Europe/Paris:20260405T110000
DTEND;TZID=Europe/Paris:20260405T170000
DTSTAMP:20260419T211808
CREATED:20260323T084021Z
LAST-MODIFIED:20260323T084257Z
UID:2168-1775386800-1775408400@fotogroepesch.nl
SUMMARY:Fotogroep Vlijmen - Foto expositie
DESCRIPTION:Fotogroep Vlijmen organiseert haar jaarlijkse Paasexpositie.Op zondag 5 en maandag 6 April van 11-17 uur.Buurthuis de Korf\, Mgr.van Kesselstraat 29\, 5251 AW Vlijmen.Onze expositie is de moeite waard om te bezoeken.
URL:https://fotogroepesch.nl/activiteit/fotogroep-vlijmen-foto-expositie/
LOCATION:Buurthuis de Korf\, Mgr. van Kesselstraat 29\, Vlijmen\, Noord-Brabant\, 5251AW\, Netherlands
CATEGORIES:Foto exposities
ATTACH;FMTTYPE=image/webp:https://fotogroepesch.nl/wp-content/uploads/2026/03/Fotogroep-Esch-Fotoclub-Vlijmen-Expositie-2026.webp
END:VEVENT
BEGIN:VEVENT
DTSTART;TZID=Europe/Paris:20260322T110000
DTEND;TZID=Europe/Paris:20260322T170000
DTSTAMP:20260419T211808
CREATED:20260207T144104Z
LAST-MODIFIED:20260207T144105Z
UID:2002-1774177200-1774198800@fotogroepesch.nl
SUMMARY:Fotogroep de Vriendschap - Foto Expositie
DESCRIPTION:Op zaterdag 21 maart en zondag 22 maart 2026 wordt door Fotogroep De Vriendschap haar jaarlijkse fototentoonstelling gehouden. \n\n\n\nDe expositie wordt gehouden in De Loop’r – Pastoor Smitsstraat 40 in Olland (St. Oedenrode) \n\n\n\nOp zaterdag is de openingstijd van 11.00 tot 18.00 uur\, en op zondag van 11.00 tot 17.00 uur. De toegang is gratis.
URL:https://fotogroepesch.nl/activiteit/fotogroep-de-vriendschap-foto-expositie/
LOCATION:De Loop’r\, Pastoor Smitsstraat 40\, Olland - St. Oedenrode\, Noord-Brabant\, Netherlands
CATEGORIES:Foto exposities
ATTACH;FMTTYPE=image/webp:https://fotogroepesch.nl/wp-content/uploads/2026/02/Fotogroep-Esch-Fotogroep-De-Vriendschap-Expositie-2026.webp
END:VEVENT
BEGIN:VEVENT
DTSTART;TZID=Europe/Paris:20260321T110000
DTEND;TZID=Europe/Paris:20260321T180000
DTSTAMP:20260419T211808
CREATED:20260207T143912Z
LAST-MODIFIED:20260207T143939Z
UID:1996-1774090800-1774116000@fotogroepesch.nl
SUMMARY:Fotogroep de Vriendschap - Foto Expositie
DESCRIPTION:Op zaterdag 21 maart en zondag 22 maart 2026 wordt door Fotogroep De Vriendschap haar jaarlijkse fototentoonstelling gehouden. \n\n\n\nDe expositie wordt gehouden in De Loop’r – Pastoor Smitsstraat 40 in Olland (St. Oedenrode) \n\n\n\nOp zaterdag is de openingstijd van 11.00 tot 18.00 uur\, en op zondag van 11.00 tot 17.00 uur. De toegang is gratis.
URL:https://fotogroepesch.nl/activiteit/fotogroep-de-vriendschap/
LOCATION:De Loop’r\, Pastoor Smitsstraat 40\, Olland - St. Oedenrode\, Noord-Brabant\, Netherlands
CATEGORIES:Foto exposities
ATTACH;FMTTYPE=image/webp:https://fotogroepesch.nl/wp-content/uploads/2026/02/Fotogroep-Esch-Fotogroep-De-Vriendschap-Expositie-2026.webp
END:VEVENT
BEGIN:VEVENT
DTSTART;TZID=Europe/Paris:20260315T110000
DTEND;TZID=Europe/Paris:20260315T170000
DTSTAMP:20260419T211808
CREATED:20260304T130405Z
LAST-MODIFIED:20260323T084303Z
UID:2122-1773572400-1773594000@fotogroepesch.nl
SUMMARY:Fotogroep Oirschot - Foto expositie
DESCRIPTION:Fotogroep Oirschot houdt op 13\, 14 en 15 maart haar jaarlijkse expositie in Middelbeers in zaal “Bij ons\, een plek om te zijn”
URL:https://fotogroepesch.nl/activiteit/fotogroep-oirschot-foto-expositie-3/
LOCATION:Bij ons een plek om te zijn\, Doornboomstraat 32\, Middelbeers\, Noord-Brabant\, 5091 CB\, Netherlands
CATEGORIES:Foto exposities
ATTACH;FMTTYPE=image/webp:https://fotogroepesch.nl/wp-content/uploads/2026/03/Fotogroep-Oirschot-Foto-expositie-2026.webp
END:VEVENT
BEGIN:VEVENT
DTSTART;TZID=Europe/Paris:20260315T110000
DTEND;TZID=Europe/Paris:20260315T160000
DTSTAMP:20260419T211808
CREATED:20260224T071002Z
LAST-MODIFIED:20260224T071003Z
UID:2055-1773572400-1773590400@fotogroepesch.nl
SUMMARY:Boxtel ontspant - Foto expositie
DESCRIPTION:Fotoclub Boxtel Ontspant organiseert in het weekend van 14 en 15 maart 2026 haar jaarlijkse fototentoonstelling in gemeenschapshuis De Walnoot in Boxtel. Zestien vrijetijdsfotografen presenteren hier hun mooiste werk van het afgelopen jaar. Het thema van deze editie is ‘Reflectie’.
URL:https://fotogroepesch.nl/activiteit/boxtel-ontspant-foto-expositie/
LOCATION:Gemeenschapshuis De Walnoot\, Reginahof 1\, Boxtel\, Noord-Brabant\, 5282 GC\, Netherlands
CATEGORIES:Foto exposities
ATTACH;FMTTYPE=image/webp:https://fotogroepesch.nl/wp-content/uploads/2026/02/Boxtel-Ontspant-Foto-expositie-2026.webp
END:VEVENT
BEGIN:VEVENT
DTSTART;TZID=Europe/Paris:20260314T123000
DTEND;TZID=Europe/Paris:20260314T170000
DTSTAMP:20260419T211808
CREATED:20260224T070908Z
LAST-MODIFIED:20260224T070909Z
UID:2049-1773491400-1773507600@fotogroepesch.nl
SUMMARY:Boxtel ontspant - Foto expositie
DESCRIPTION:Fotoclub Boxtel Ontspant organiseert in het weekend van 14 en 15 maart 2026 haar jaarlijkse fototentoonstelling in gemeenschapshuis De Walnoot in Boxtel. Zestien vrijetijdsfotografen presenteren hier hun mooiste werk van het afgelopen jaar. Het thema van deze editie is ‘Reflectie’.
URL:https://fotogroepesch.nl/activiteit/boxtel-ontspant/
LOCATION:Gemeenschapshuis De Walnoot\, Reginahof 1\, Boxtel\, Noord-Brabant\, 5282 GC\, Netherlands
CATEGORIES:Foto exposities
ATTACH;FMTTYPE=image/webp:https://fotogroepesch.nl/wp-content/uploads/2026/02/Boxtel-Ontspant-Foto-expositie-2026.webp
END:VEVENT
BEGIN:VEVENT
DTSTART;TZID=Europe/Paris:20260314T110000
DTEND;TZID=Europe/Paris:20260314T170000
DTSTAMP:20260419T211808
CREATED:20260304T130151Z
LAST-MODIFIED:20260323T084324Z
UID:2120-1773486000-1773507600@fotogroepesch.nl
SUMMARY:Fotogroep Oirschot - Foto expositie
DESCRIPTION:Fotogroep Oirschot houdt op 13\, 14 en 15 maart haar jaarlijkse expositie in Middelbeers in zaal “Bij ons\, een plek om te zijn”
URL:https://fotogroepesch.nl/activiteit/fotogroep-oirschot-foto-expositie-2/
LOCATION:Bij ons een plek om te zijn\, Doornboomstraat 32\, Middelbeers\, Noord-Brabant\, 5091 CB\, Netherlands
CATEGORIES:Foto exposities
ATTACH;FMTTYPE=image/webp:https://fotogroepesch.nl/wp-content/uploads/2026/03/Fotogroep-Oirschot-Foto-expositie-2026.webp
END:VEVENT
BEGIN:VEVENT
DTSTART;TZID=Europe/Paris:20260313T200000
DTEND;TZID=Europe/Paris:20260313T220000
DTSTAMP:20260419T211808
CREATED:20260304T125912Z
LAST-MODIFIED:20260323T084341Z
UID:2112-1773432000-1773439200@fotogroepesch.nl
SUMMARY:Fotogroep Oirschot - Foto expositie
DESCRIPTION:Fotogroep Oirschot houdt op 13\, 14 en 15 maart haar jaarlijkse expositie in Middelbeers in zaal “Bij ons\, een plek om te zijn”
URL:https://fotogroepesch.nl/activiteit/fotogroep-oirschot-foto-expositie/
LOCATION:Bij ons een plek om te zijn\, Doornboomstraat 32\, Middelbeers\, Noord-Brabant\, 5091 CB\, Netherlands
CATEGORIES:Foto exposities
ATTACH;FMTTYPE=image/webp:https://fotogroepesch.nl/wp-content/uploads/2026/03/Fotogroep-Oirschot-Foto-expositie-2026.webp
END:VEVENT
BEGIN:VEVENT
DTSTART;TZID=Europe/Paris:20260311T193000
DTEND;TZID=Europe/Paris:20260311T220000
DTSTAMP:20260419T211808
CREATED:20260112T204320Z
LAST-MODIFIED:20260226T095611Z
UID:1001-1773257400-1773266400@fotogroepesch.nl
SUMMARY:Ledenbijeenkomst maart
DESCRIPTION:De ledenbijeenkomst maart van Fotogroep Esch staat in het teken van fotobespreking. We gaan de Lensbal en gloeilamp foto’s bespreken die we tijdens de ledenbijeenkomst van februari hebben gemaakt. \n\n\n\nNa het bespreken van de foto’s zullen we het thema scherpte/diepte bespreken.
URL:https://fotogroepesch.nl/activiteit/ledenbijeenkomst-maart/
LOCATION:Hobbyclub Samen Bezig\, Esch\, Noord-Brabant\, 5296KB\, Netherlands
CATEGORIES:Ledenbijeenkomst
ATTACH;FMTTYPE=image/webp:https://fotogroepesch.nl/wp-content/uploads/2026/01/Fotogroep-Esch-Scherpte-Diepte-Ruud-Engels-Photography-Sneeuwklokjes-zonsopkomst_WEB.webp
END:VEVENT
BEGIN:VEVENT
DTSTART;TZID=Europe/Paris:20260308T110000
DTEND;TZID=Europe/Paris:20260308T170000
DTSTAMP:20260419T211808
CREATED:20260127T085035Z
LAST-MODIFIED:20260127T085243Z
UID:1911-1772967600-1772989200@fotogroepesch.nl
SUMMARY:Fotogroep Best - Foto expositie
DESCRIPTION:Op zaterdag 7 maart en zondag 8 maart 2026 wordt door Fotogroep Best de 39ste fototentoonstelling gehouden. \n\n\n\nBezoek onze expositie in de grote zaal van Zalencentrum Prinsenhof\, Hoofdstraat 43 in Best. \n\n\n\nOp zaterdag is de openingstijd van 13.00 tot 18.00 uur\, en op zondag van 11.00 tot 17.00 uur. De toegang is gratis.
URL:https://fotogroepesch.nl/activiteit/fotogroep-best/
LOCATION:Zalencentrum Prinsenhof\, Hoofdstraat 43\, Best\, Noord-Brabant\, 5683 AC\, Netherlands
CATEGORIES:Foto exposities
ATTACH;FMTTYPE=image/webp:https://fotogroepesch.nl/wp-content/uploads/2026/01/Fotogroep-Esch-Fotogroep-Best-Expositie-2026.webp
END:VEVENT
BEGIN:VEVENT
DTSTART;TZID=Europe/Paris:20260307T130000
DTEND;TZID=Europe/Paris:20260307T180000
DTSTAMP:20260419T211808
CREATED:20260127T085227Z
LAST-MODIFIED:20260127T085228Z
UID:1920-1772888400-1772906400@fotogroepesch.nl
SUMMARY:Fotogroep Best - Foto expositie
DESCRIPTION:Op zaterdag 7 maart en zondag 8 maart 2026 wordt door Fotogroep Best de 39ste fototentoonstelling gehouden. \n\n\n\nBezoek onze expositie in de grote zaal van Zalencentrum Prinsenhof\, Hoofdstraat 43 in Best. \n\n\n\nOp zaterdag is de openingstijd van 13.00 tot 18.00 uur\, en op zondag van 11.00 tot 17.00 uur. De toegang is gratis.
URL:https://fotogroepesch.nl/activiteit/fotogroep-best-foto-expositie/
LOCATION:Zalencentrum Prinsenhof\, Hoofdstraat 43\, Best\, Noord-Brabant\, 5683 AC\, Netherlands
CATEGORIES:Foto exposities
ATTACH;FMTTYPE=image/webp:https://fotogroepesch.nl/wp-content/uploads/2026/01/Fotogroep-Esch-Fotogroep-Best-Expositie-2026.webp
END:VEVENT
BEGIN:VEVENT
DTSTART;TZID=Europe/Paris:20260211T193000
DTEND;TZID=Europe/Paris:20260211T220000
DTSTAMP:20260419T211808
CREATED:20260112T202039Z
LAST-MODIFIED:20260128T100858Z
UID:987-1770838200-1770847200@fotogroepesch.nl
SUMMARY:Ledenbijeenkomst februari
DESCRIPTION:Tijdens de ledenbijeenkomst februari van Fotogroep Esch gaan we samen creatief fotograferen met de lensball en gloeilampen. Dit wordt een praktische avond.
URL:https://fotogroepesch.nl/activiteit/ledenbijeenkomst-februari/
LOCATION:Hobbyclub Samen Bezig\, Esch\, Noord-Brabant\, 5296KB\, Netherlands
CATEGORIES:Ledenbijeenkomst
ATTACH;FMTTYPE=image/webp:https://fotogroepesch.nl/wp-content/uploads/2026/01/Ruud-Engels-Photography-Creatieve-Lensball-Fotografie.webp
END:VEVENT
BEGIN:VEVENT
DTSTART;TZID=Europe/Paris:20260114T193000
DTEND;TZID=Europe/Paris:20260114T220000
DTSTAMP:20260419T211808
CREATED:20260112T204619Z
LAST-MODIFIED:20260113T100206Z
UID:1003-1768419000-1768428000@fotogroepesch.nl
SUMMARY:Ledenbijeenkomst januari
DESCRIPTION:In de ledenbijeenkomst januari van Fotogroep Esch wordt uitleg gegeven over creatief fotograferen met de lensball en gloeilampen.Daarnaast zal uitleg gegeven worden over het thema De Rode Draad.
URL:https://fotogroepesch.nl/activiteit/ledenbijeenkomst-januari/
LOCATION:Hobbyclub Samen Bezig\, Esch\, Noord-Brabant\, 5296KB\, Netherlands
CATEGORIES:Ledenbijeenkomst
ATTACH;FMTTYPE=image/webp:https://fotogroepesch.nl/wp-content/uploads/2021/08/Fotogroep-Esch-Ledenbijeenkomst.webp
END:VEVENT
END:VCALENDAR