BEGIN:VCALENDAR
VERSION:2.0
PRODID:-//Fotogroep Esch - ECPv6.15.20//NONSGML v1.0//EN
CALSCALE:GREGORIAN
METHOD:PUBLISH
X-WR-CALNAME:Fotogroep Esch
X-ORIGINAL-URL:https://fotogroepesch.nl
X-WR-CALDESC:Evenementen voor Fotogroep Esch
REFRESH-INTERVAL;VALUE=DURATION:PT1H
X-Robots-Tag:noindex
X-PUBLISHED-TTL:PT1H
BEGIN:VTIMEZONE
TZID:Europe/Paris
BEGIN:DAYLIGHT
TZOFFSETFROM:+0100
TZOFFSETTO:+0200
TZNAME:CEST
DTSTART:20250330T010000
END:DAYLIGHT
BEGIN:STANDARD
TZOFFSETFROM:+0200
TZOFFSETTO:+0100
TZNAME:CET
DTSTART:20251026T010000
END:STANDARD
BEGIN:DAYLIGHT
TZOFFSETFROM:+0100
TZOFFSETTO:+0200
TZNAME:CEST
DTSTART:20260329T010000
END:DAYLIGHT
BEGIN:STANDARD
TZOFFSETFROM:+0200
TZOFFSETTO:+0100
TZNAME:CET
DTSTART:20261025T010000
END:STANDARD
BEGIN:DAYLIGHT
TZOFFSETFROM:+0100
TZOFFSETTO:+0200
TZNAME:CEST
DTSTART:20270328T010000
END:DAYLIGHT
BEGIN:STANDARD
TZOFFSETFROM:+0200
TZOFFSETTO:+0100
TZNAME:CET
DTSTART:20271031T010000
END:STANDARD
END:VTIMEZONE
BEGIN:VEVENT
DTSTART;TZID=Europe/Paris:20260311T193000
DTEND;TZID=Europe/Paris:20260311T220000
DTSTAMP:20260419T211529
CREATED:20260112T204320Z
LAST-MODIFIED:20260226T095611Z
UID:1001-1773257400-1773266400@fotogroepesch.nl
SUMMARY:Ledenbijeenkomst maart
DESCRIPTION:De ledenbijeenkomst maart van Fotogroep Esch staat in het teken van fotobespreking. We gaan de Lensbal en gloeilamp foto’s bespreken die we tijdens de ledenbijeenkomst van februari hebben gemaakt. \n\n\n\nNa het bespreken van de foto’s zullen we het thema scherpte/diepte bespreken.
URL:https://fotogroepesch.nl/activiteit/ledenbijeenkomst-maart/
LOCATION:Hobbyclub Samen Bezig\, Esch\, Noord-Brabant\, 5296KB\, Netherlands
CATEGORIES:Ledenbijeenkomst
ATTACH;FMTTYPE=image/webp:https://fotogroepesch.nl/wp-content/uploads/2026/01/Fotogroep-Esch-Scherpte-Diepte-Ruud-Engels-Photography-Sneeuwklokjes-zonsopkomst_WEB.webp
END:VEVENT
END:VCALENDAR